BEGIN:VCALENDAR
VERSION:2.0
PRODID:-//Georgia Avenue Family Support Collaborative - ECPv6.14.2//NONSGML v1.0//EN
CALSCALE:GREGORIAN
METHOD:PUBLISH
X-ORIGINAL-URL:https://gafsc-dc.org
X-WR-CALDESC:Events for Georgia Avenue Family Support Collaborative
REFRESH-INTERVAL;VALUE=DURATION:PT1H
X-Robots-Tag:noindex
X-PUBLISHED-TTL:PT1H
BEGIN:VTIMEZONE
TZID:America/New_York
BEGIN:DAYLIGHT
TZOFFSETFROM:-0500
TZOFFSETTO:-0400
TZNAME:EDT
DTSTART:20230312T070000
END:DAYLIGHT
BEGIN:STANDARD
TZOFFSETFROM:-0400
TZOFFSETTO:-0500
TZNAME:EST
DTSTART:20231105T060000
END:STANDARD
END:VTIMEZONE
BEGIN:VEVENT
DTSTART;VALUE=DATE:20230116
DTEND;VALUE=DATE:20230117
DTSTAMP:20260423T185905
CREATED:20230116T140929Z
LAST-MODIFIED:20230116T140929Z
UID:1287-1673827200-1673913599@gafsc-dc.org
SUMMARY:Martin Luther King\, Jr. Day Offices Closed
DESCRIPTION:
URL:https://gafsc-dc.org/activities/martin-luther-king-jr-day-offices-closed
CATEGORIES:holiday,Office Notices
END:VEVENT
BEGIN:VEVENT
DTSTART;TZID=America/New_York:20230116T080000
DTEND;TZID=America/New_York:20230116T170000
DTSTAMP:20260423T185905
CREATED:20230116T141736Z
LAST-MODIFIED:20230116T141748Z
UID:1293-1673856000-1673888400@gafsc-dc.org
SUMMARY:GAFSC Parent Support Group
DESCRIPTION:Join\, share\, relax and get support from other Collaborative parents.  \nChance to win a Raffle for a $25 Amazon or Wal-Mart gift card \nContact:  Katheryn Ramos at: 202-722-1815 ext. 100 if you plan to attend.
URL:https://gafsc-dc.org/activities/gafsc-parent-support-group-10
CATEGORIES:Parent Support
ORGANIZER;CN="Katherine Ramos":MAILTO:kramos@gafsc-dc.org
END:VEVENT
END:VCALENDAR