BEGIN:VCALENDAR
VERSION:2.0
PRODID:-//Georgia Avenue Family Support Collaborative - ECPv6.14.2//NONSGML v1.0//EN
CALSCALE:GREGORIAN
METHOD:PUBLISH
X-WR-CALNAME:Georgia Avenue Family Support Collaborative
X-ORIGINAL-URL:https://gafsc-dc.org
X-WR-CALDESC:Events for Georgia Avenue Family Support Collaborative
REFRESH-INTERVAL;VALUE=DURATION:PT1H
X-Robots-Tag:noindex
X-PUBLISHED-TTL:PT1H
BEGIN:VTIMEZONE
TZID:America/New_York
BEGIN:DAYLIGHT
TZOFFSETFROM:-0500
TZOFFSETTO:-0400
TZNAME:EDT
DTSTART:20230312T070000
END:DAYLIGHT
BEGIN:STANDARD
TZOFFSETFROM:-0400
TZOFFSETTO:-0500
TZNAME:EST
DTSTART:20231105T060000
END:STANDARD
END:VTIMEZONE
BEGIN:VEVENT
DTSTART;TZID=America/New_York:20230127T080000
DTEND;TZID=America/New_York:20230227T170000
DTSTAMP:20260423T185016
CREATED:20230131T155620Z
LAST-MODIFIED:20230213T162331Z
UID:1493-1674806400-1677517200@gafsc-dc.org
SUMMARY:GAFSC Scholarship Application Form Due
DESCRIPTION:The Community Schools Initiative from Georgia Avenue Family Support Collaborative at Roosevelt SHS invites all Seniors to apply to their 7th Annual Scholarship to Roosevelt SHS and has been extended for the third consecutive year to Roosevelt STAY seniors. Both schools are encouraged to apply. \nDATE: Apply before Friday Feb.17\, 2023 by 5pm. \nMs. Veronica Gonzalez\nvgonzalez@gafsc-dc.org \nSubmit the following to be considered: \n\nEssay 500-700 Words\nHigh school transcripts\, college acceptance letter\, &\nresume\n\nScholarship Awards: \n1st place:  $6\,000\n2nd place: $3\,500\n3rd place: $2\,500\n4th place: $2\,000\n5th place: $1\,000
URL:https://gafsc-dc.org/activities/gafsc-scholarship-application-form-due
CATEGORIES:Scholarship Opportunity
ORGANIZER;CN="Veronica Gonzalez":MAILTO:vgonzalez@gafsc-dc.org
END:VEVENT
BEGIN:VEVENT
DTSTART;TZID=America/New_York:20230222T120000
DTEND;TZID=America/New_York:20230224T170000
DTSTAMP:20260423T185016
CREATED:20230126T174032Z
LAST-MODIFIED:20230126T174032Z
UID:1484-1677067200-1677258000@gafsc-dc.org
SUMMARY:Our Daughters
DESCRIPTION:February 22-24\, 2023 | 12 pm – 5 pm \nCommunity Family Life Services \n305 E Street NW\, Washington\, DC 20001 \nOur Daughters will provide a safe space for young women with incarcerated parents to discuss how setting goals\, building healthy relationships\, and addressing social issues will help to break a generational cycle of involvement with the penal system.\nThis program is for young women ages 13-18.\nA meal and snacks will be served at every session. \nRSVP by January 30\, 2023\nPlease contact Amanda Davis via adavis@cflsdc.org or 202-864-6299 \n 
URL:https://gafsc-dc.org/activities/our-daughters
LOCATION:Community Family Life Services\, 305 East Street NW\, Washington\, DC\, 20001\, United States
CATEGORIES:Events
ORGANIZER;CN="Amanda Davis":MAILTO:adavis@cflsdc.org
END:VEVENT
BEGIN:VEVENT
DTSTART;TZID=America/New_York:20230224T100000
DTEND;TZID=America/New_York:20230224T120000
DTSTAMP:20260423T185016
CREATED:20230116T142314Z
LAST-MODIFIED:20230222T084531Z
UID:1299-1677232800-1677240000@gafsc-dc.org
SUMMARY:GAFSC Parent Cafe
DESCRIPTION:REGISTRATION REQUIRED IN ADVANCE TO ATTEND THE EVENT \nLove Yourself—Self Love comes first! \nEnjoy great conversations with other parents. Learn more about ‘Protective Factors’ that help keep families strong. \nFriday\, February 24\, 2023\n10 AM-12 PM\nExclusively on Zoom \nPlease RSVP to Katheryn Ramos\n202-722-1815 ext. 100 or kramos@gafsc-dc.org\nYou will be emailed the Zoom meeting link and phone number prior to the cafe once you RSVP (the first 20 people to RSVP will be able to join) \nOne lucky winner will receive a $25 Amazon or Walmart card raffle prize! IF… \n\nYou register by 5 PM\, Thursday\, February 23 AND\nYou log onto the Parent Cafe between 9:45 AM and 10:00 on the day of the event.\n\n  \nÚnase a GAFSC para un café VIRTUAL para padres el viernes 24/02/2023 a las 10 a.m. \n  \n\n¿Que?Cafe de Padres: Tema:  “Ámate a ti mismo  El amor propio es lo primero “\n¿Cuando? Viernes 24 de febrero de 2023 de 10:00 a.m. a 12 p.m.\n¿Donde?A través de zoom (Se le enviará el enlace cuando se registre)\n¿Que más? ¡ Rifa  !  ¡Un afortunado ganador ganará una tarjeta de Amazon o Walmart de $25!
URL:https://gafsc-dc.org/activities/gafsc-parent-cafe-8
CATEGORIES:Parent Cafe
ATTACH;FMTTYPE=image/png:https://gafsc-dc.org/wp-content/uploads/2023/01/GAFSC-Blog-Images02parentcafe.png
ORGANIZER;CN="Katherine Ramos":MAILTO:kramos@gafsc-dc.org
END:VEVENT
END:VCALENDAR