BEGIN:VCALENDAR
VERSION:2.0
PRODID:-//Georgia Avenue Family Support Collaborative - ECPv6.14.2//NONSGML v1.0//EN
CALSCALE:GREGORIAN
METHOD:PUBLISH
X-WR-CALNAME:Georgia Avenue Family Support Collaborative
X-ORIGINAL-URL:https://gafsc-dc.org
X-WR-CALDESC:Events for Georgia Avenue Family Support Collaborative
REFRESH-INTERVAL;VALUE=DURATION:PT1H
X-Robots-Tag:noindex
X-PUBLISHED-TTL:PT1H
BEGIN:VTIMEZONE
TZID:America/New_York
BEGIN:DAYLIGHT
TZOFFSETFROM:-0500
TZOFFSETTO:-0400
TZNAME:EDT
DTSTART:20230312T070000
END:DAYLIGHT
BEGIN:STANDARD
TZOFFSETFROM:-0400
TZOFFSETTO:-0500
TZNAME:EST
DTSTART:20231105T060000
END:STANDARD
END:VTIMEZONE
BEGIN:VEVENT
DTSTART;VALUE=DATE:20230608
DTEND;VALUE=DATE:20230609
DTSTAMP:20260424T003708
CREATED:20230531T211106Z
LAST-MODIFIED:20230531T211106Z
UID:1725-1686182400-1686268799@gafsc-dc.org
SUMMARY:Bike Share Sign-up Day
DESCRIPTION:
URL:https://gafsc-dc.org/activities/bike-share-sign-up-day
LOCATION:4913 14th Street\, NW\, 4913 14th Street\, NW\, Washington\, DC\, United States
CATEGORIES:DC Community Events
END:VEVENT
END:VCALENDAR