BEGIN:VCALENDAR
VERSION:2.0
PRODID:-//Georgia Avenue Family Support Collaborative - ECPv6.14.2//NONSGML v1.0//EN
CALSCALE:GREGORIAN
METHOD:PUBLISH
X-WR-CALNAME:Georgia Avenue Family Support Collaborative
X-ORIGINAL-URL:https://gafsc-dc.org
X-WR-CALDESC:Events for Georgia Avenue Family Support Collaborative
REFRESH-INTERVAL;VALUE=DURATION:PT1H
X-Robots-Tag:noindex
X-PUBLISHED-TTL:PT1H
BEGIN:VTIMEZONE
TZID:America/New_York
BEGIN:DAYLIGHT
TZOFFSETFROM:-0500
TZOFFSETTO:-0400
TZNAME:EDT
DTSTART:20230312T070000
END:DAYLIGHT
BEGIN:STANDARD
TZOFFSETFROM:-0400
TZOFFSETTO:-0500
TZNAME:EST
DTSTART:20231105T060000
END:STANDARD
END:VTIMEZONE
BEGIN:VEVENT
DTSTART;TZID=America/New_York:20230803T120000
DTEND;TZID=America/New_York:20230803T190000
DTSTAMP:20260424T001618
CREATED:20230531T211548Z
LAST-MODIFIED:20230531T211548Z
UID:1730-1691064000-1691089200@gafsc-dc.org
SUMMARY:Ward 4 Beat the Streets
DESCRIPTION:
URL:https://gafsc-dc.org/activities/ward-4-beat-the-streets-2
LOCATION:9th & Taylor Street\, NW\, 9th and Taylor Street\, NW\, Washington\, DC\, United States
CATEGORIES:Community Events,DC Community Events
END:VEVENT
BEGIN:VEVENT
DTSTART;TZID=America/New_York:20230803T120000
DTEND;TZID=America/New_York:20230803T190000
DTSTAMP:20260424T001618
CREATED:20231006T184938Z
LAST-MODIFIED:20231006T184938Z
UID:1911-1691064000-1691089200@gafsc-dc.org
SUMMARY:Ward 4 Beat the Streets
DESCRIPTION:
URL:https://gafsc-dc.org/activities/ward-4-beat-the-streets-3
CATEGORIES:Community Events,DC Community Events
END:VEVENT
END:VCALENDAR