BEGIN:VCALENDAR
VERSION:2.0
PRODID:-//Georgia Avenue Family Support Collaborative - ECPv6.14.2//NONSGML v1.0//EN
CALSCALE:GREGORIAN
METHOD:PUBLISH
X-WR-CALNAME:Georgia Avenue Family Support Collaborative
X-ORIGINAL-URL:https://gafsc-dc.org
X-WR-CALDESC:Events for Georgia Avenue Family Support Collaborative
REFRESH-INTERVAL;VALUE=DURATION:PT1H
X-Robots-Tag:noindex
X-PUBLISHED-TTL:PT1H
BEGIN:VTIMEZONE
TZID:America/New_York
BEGIN:DAYLIGHT
TZOFFSETFROM:-0500
TZOFFSETTO:-0400
TZNAME:EDT
DTSTART:20250309T070000
END:DAYLIGHT
BEGIN:STANDARD
TZOFFSETFROM:-0400
TZOFFSETTO:-0500
TZNAME:EST
DTSTART:20251102T060000
END:STANDARD
END:VTIMEZONE
BEGIN:VEVENT
DTSTART;TZID=America/New_York:20250820T180000
DTEND;TZID=America/New_York:20250820T190000
DTSTAMP:20260423T014118
CREATED:20250805T180128Z
LAST-MODIFIED:20250805T180128Z
UID:2628-1755712800-1755716400@gafsc-dc.org
SUMMARY:DCPS Back to School Information Session
DESCRIPTION:Please note that the virtual DCPS Back to School Information Session will take place on the Microsoft Teams platform. If you plan to join the meeting by phone\, you will be required to download the Microsoft Teams app. \n_________________________________________________________________________________ \nJoin Chancellor Ferebee and DCPS leadership for a virtual information session to learn important updates for the coming school year. Topics include attendance\, early childhood\, immunizations\, digital citizenship\, safety\, and more! \nSpanish and ASL interpretation will be available. \nPlease note that the virtual DCPS Back to School Information Session will take place on the Microsoft Teams Town Hall platform. If you plan to join the meeting by phone\, you will be required to download the Microsoft Teams app. \n_________________________________________________________________________________ \nSesión informativa sobre el regreso a la escuela de las Escuelas Públicas de DC (DCPS) \n¡Únase al canciller Ferebee y a los líderes de las DCPS en una sesión informativa virtual con el fin de conocer actualizaciones importantes para el próximo año escolar. Los temas incluyen asistencia\, infancia temprana\, vacunas\, ciudadanía digital\, seguridad y… ¡mucho más! \nSe ofrecerá servicio de interpretación en español y lenguaje de señas de Estados Unidos. \nTenga en cuenta que la sesión informativa virtual sobre el regreso a clases de las DCPS se llevará a cabo en la plataforma Microsoft Teams del Ayuntamiento. Si planea unirse a la reunión por teléfono\, deberá descargar la aplicación Microsoft Teams \n___________________________________________________________________________________________ \nRejoignez le Chancelier Ferebee et le DCPS pour un événement virtuel présentant des informations importantes sur la prochaine année scolaire. \nRejoignez le Chancelier Ferebee et les dirigeants du DCPS pour une séance d’information virtuelle afin de découvrir les dernières nouvelles importantes pour la prochaine année scolaire. Les thèmes abordés comprendront l’assiduité\, la petite enfance\, les vaccinations\, la citoyenneté numérique\, la sécurité\, et bien plus encore ! \nUne interprétation en espagnol et en langue des signes américaine (ASL) sera disponible. \nVeuillez noter que la séance d’information virtuelle sur la rentrée scolaire du DCPS se déroulera sur la plateforme Microsoft Teams Town Hall. Si vous prévoyez de participer à la réunion par téléphone\, vous devrez télécharger l’application Microsoft Teams.
URL:https://gafsc-dc.org/activities/dcps-back-to-school-information-session
CATEGORIES:Back to School,Community Events,DC Community Events
END:VEVENT
BEGIN:VEVENT
DTSTART;TZID=America/New_York:20250815T113000
DTEND;TZID=America/New_York:20250815T140000
DTSTAMP:20260423T014118
CREATED:20250723T141138Z
LAST-MODIFIED:20250723T141138Z
UID:2619-1755257400-1755266400@gafsc-dc.org
SUMMARY:Back To School Family Enrichment
DESCRIPTION:Address will be shared once you RSVP. Please RSVP to Katheryn Ramos at kramos@gafsc-dc.org.
URL:https://gafsc-dc.org/activities/back-to-school-family-enrichment
CATEGORIES:Back to School,Community Events,DC Community Events,Events
ORGANIZER;CN="Georgia Avenue Family Support Collaborative (GAFSC)":MAILTO:kramos@gafsc-dc.org
END:VEVENT
BEGIN:VEVENT
DTSTART;TZID=America/New_York:20250811T093000
DTEND;TZID=America/New_York:20250811T163000
DTSTAMP:20260423T014118
CREATED:20250805T162344Z
LAST-MODIFIED:20250805T162344Z
UID:2624-1754904600-1754929800@gafsc-dc.org
SUMMARY:Back to School Bash for DCPS @ National Children's Museum
DESCRIPTION:On Monday\, August 11\, from 9:30 am – 4:30 pm\, DC Public School and Charter School students and their families receive FREE admission to the National Children’s Museum.\n\n\n\n\n\n\n\n\n\n\n\n\n\n\nMeet Washington Commanders mascot Major Tuddy + grab Commanders giveaways\nMusical performances on the Live! Concert Stage\nKids’ book fair hosted by Turning the Page\nCommunity resources + activity tables\nFree lemonade\, isolated lunch bags\, + healthy recipe giveaways\n\n\n\n\n\n\n\n\n\n\n\nAlready enrolled in DCPS and DC Charter Schools? Head to the link below to learn more about the event and how to reserve up to four free tickets.
URL:https://gafsc-dc.org/activities/back-to-school-bash-for-dcps-national-childrens-museum
LOCATION:Takoma Park Neighborhood Library\, Woodrow Wilson Plaza\, 1300 Pennsylvania Ave NW\,\, Washington\, DC\, 20004
CATEGORIES:Back to School,Community Events,DC Community Events
END:VEVENT
BEGIN:VEVENT
DTSTART;TZID=America/New_York:20250809T140000
DTEND;TZID=America/New_York:20250809T160000
DTSTAMP:20260423T014118
CREATED:20250715T133105Z
LAST-MODIFIED:20250715T133105Z
UID:2595-1754748000-1754755200@gafsc-dc.org
SUMMARY:Back to School Shoe Giveaway
DESCRIPTION:HELP GIVE SHOES AND HOPE TO KIDS IN THE DC AREA\n\n\n\n\n\n\n\n\n\n\n\n\n  \nChildren in the DC area are invited to receive brand-new athletic shoes and socks\, along with a message of hope from Samaritan’s Feet volunteers. This special distribution will serve 100 children and is made possible through our partnership with the DC Police and Elevation Outreach. Together\, we’re working to support local families with dignity\, compassion\, and care. \n801 Shepherd St\, NW \nPlease register in advance—spaces are limited and available while supplies last. \nRegistration required: https://samaritansfeet.org/elevation-outreach-dc-police-shoe-distribution/
URL:https://gafsc-dc.org/activities/back-to-school-shoe-giveaway
CATEGORIES:Back to School,Community Events,DC Community Events,Events,Giveaway,Parent Support
END:VEVENT
END:VCALENDAR