BEGIN:VCALENDAR
VERSION:2.0
PRODID:-//Georgia Avenue Family Support Collaborative - ECPv6.14.2//NONSGML v1.0//EN
CALSCALE:GREGORIAN
METHOD:PUBLISH
X-WR-CALNAME:Georgia Avenue Family Support Collaborative
X-ORIGINAL-URL:https://gafsc-dc.org
X-WR-CALDESC:Events for Georgia Avenue Family Support Collaborative
REFRESH-INTERVAL;VALUE=DURATION:PT1H
X-Robots-Tag:noindex
X-PUBLISHED-TTL:PT1H
BEGIN:VTIMEZONE
TZID:America/New_York
BEGIN:DAYLIGHT
TZOFFSETFROM:-0500
TZOFFSETTO:-0400
TZNAME:EDT
DTSTART:20220313T070000
END:DAYLIGHT
BEGIN:STANDARD
TZOFFSETFROM:-0400
TZOFFSETTO:-0500
TZNAME:EST
DTSTART:20221106T060000
END:STANDARD
BEGIN:DAYLIGHT
TZOFFSETFROM:-0500
TZOFFSETTO:-0400
TZNAME:EDT
DTSTART:20230312T070000
END:DAYLIGHT
BEGIN:STANDARD
TZOFFSETFROM:-0400
TZOFFSETTO:-0500
TZNAME:EST
DTSTART:20231105T060000
END:STANDARD
END:VTIMEZONE
BEGIN:VEVENT
DTSTART;VALUE=DATE:20231225
DTEND;VALUE=DATE:20231226
DTSTAMP:20260422T140415
CREATED:20230118T163120Z
LAST-MODIFIED:20230118T163120Z
UID:1358-1703462400-1703548799@gafsc-dc.org
SUMMARY:Christmas
DESCRIPTION:GAFSC Offices Closed in observance of this holiday.
URL:https://gafsc-dc.org/activities/christmas
CATEGORIES:holiday,Office Notices
END:VEVENT
BEGIN:VEVENT
DTSTART;VALUE=DATE:20231124
DTEND;VALUE=DATE:20231125
DTSTAMP:20260422T140415
CREATED:20230118T162951Z
LAST-MODIFIED:20230118T163015Z
UID:1356-1700784000-1700870399@gafsc-dc.org
SUMMARY:Thanksgiving Observed
DESCRIPTION:GAFSC Offices Closed in observance of this holiday.
URL:https://gafsc-dc.org/activities/thanksgiving-observed
CATEGORIES:holiday,Office Notices
END:VEVENT
BEGIN:VEVENT
DTSTART;VALUE=DATE:20231123
DTEND;VALUE=DATE:20231124
DTSTAMP:20260422T140415
CREATED:20230118T162827Z
LAST-MODIFIED:20230118T162847Z
UID:1354-1700697600-1700783999@gafsc-dc.org
SUMMARY:Thanksgiving
DESCRIPTION:GAFSC Offices Closed in observance of this holiday.
URL:https://gafsc-dc.org/activities/thanksgiving
CATEGORIES:holiday,Office Notices
END:VEVENT
BEGIN:VEVENT
DTSTART;VALUE=DATE:20231110
DTEND;VALUE=DATE:20231111
DTSTAMP:20260422T140415
CREATED:20230118T162622Z
LAST-MODIFIED:20230118T162622Z
UID:1350-1699574400-1699660799@gafsc-dc.org
SUMMARY:Veterans Day Observed
DESCRIPTION:GAFSC Offices Closed in observance of this holiday.
URL:https://gafsc-dc.org/activities/veterans-day-observed
CATEGORIES:holiday,Office Notices
END:VEVENT
BEGIN:VEVENT
DTSTART;VALUE=DATE:20231009
DTEND;VALUE=DATE:20231010
DTSTAMP:20260422T140415
CREATED:20230118T162329Z
LAST-MODIFIED:20230118T162329Z
UID:1348-1696809600-1696895999@gafsc-dc.org
SUMMARY:Indigenous Peoples' Day
DESCRIPTION:GAFSC Offices Closed in observance of this holiday.
URL:https://gafsc-dc.org/activities/indigenous-peoples-day
CATEGORIES:holiday,Office Notices
END:VEVENT
BEGIN:VEVENT
DTSTART;VALUE=DATE:20230904
DTEND;VALUE=DATE:20230905
DTSTAMP:20260422T140415
CREATED:20230118T161941Z
LAST-MODIFIED:20230118T161941Z
UID:1345-1693785600-1693871999@gafsc-dc.org
SUMMARY:Labor Day
DESCRIPTION:GAFSC Offices Closed in observance of this holiday.
URL:https://gafsc-dc.org/activities/labor-day
CATEGORIES:holiday,Office Notices
END:VEVENT
BEGIN:VEVENT
DTSTART;VALUE=DATE:20230704
DTEND;VALUE=DATE:20230705
DTSTAMP:20260422T140415
CREATED:20230118T161752Z
LAST-MODIFIED:20230118T161752Z
UID:1343-1688428800-1688515199@gafsc-dc.org
SUMMARY:July 4th Independence Day
DESCRIPTION:GAFSC Offices Closed in observance of this holiday.
URL:https://gafsc-dc.org/activities/july-4th-independence-day
CATEGORIES:holiday,Office Notices
END:VEVENT
BEGIN:VEVENT
DTSTART;VALUE=DATE:20230619
DTEND;VALUE=DATE:20230620
DTSTAMP:20260422T140415
CREATED:20230118T161629Z
LAST-MODIFIED:20230118T161629Z
UID:1341-1687132800-1687219199@gafsc-dc.org
SUMMARY:Juneteenth National Independence Day
DESCRIPTION:GAFSC Offices Closed in observance of this holiday.
URL:https://gafsc-dc.org/activities/juneteenth-national-independence-day
CATEGORIES:holiday,Office Notices
END:VEVENT
BEGIN:VEVENT
DTSTART;VALUE=DATE:20230529
DTEND;VALUE=DATE:20230530
DTSTAMP:20260422T140415
CREATED:20230118T161333Z
LAST-MODIFIED:20230118T161333Z
UID:1339-1685318400-1685404799@gafsc-dc.org
SUMMARY:Memorial Day
DESCRIPTION:GAFSC Offices Closed in observance of this holiday.
URL:https://gafsc-dc.org/activities/memorial-day
CATEGORIES:holiday,Office Notices
END:VEVENT
BEGIN:VEVENT
DTSTART;VALUE=DATE:20230417
DTEND;VALUE=DATE:20230418
DTSTAMP:20260422T140415
CREATED:20230118T161229Z
LAST-MODIFIED:20230118T161229Z
UID:1337-1681689600-1681775999@gafsc-dc.org
SUMMARY:DC Emancipation Day Observed
DESCRIPTION:GAFSC Offices Closed in observance of this holiday.
URL:https://gafsc-dc.org/activities/dc-emancipation-day-observed
CATEGORIES:holiday,Office Notices
END:VEVENT
BEGIN:VEVENT
DTSTART;VALUE=DATE:20230220
DTEND;VALUE=DATE:20230221
DTSTAMP:20260422T140415
CREATED:20230118T160942Z
LAST-MODIFIED:20230118T160942Z
UID:1335-1676851200-1676937599@gafsc-dc.org
SUMMARY:George Washington's Birthday
DESCRIPTION:GAFSC Office Closed in observance of this holiday.
URL:https://gafsc-dc.org/activities/george-washingtons-birthday
CATEGORIES:holiday,Office Notices
END:VEVENT
BEGIN:VEVENT
DTSTART;VALUE=DATE:20230116
DTEND;VALUE=DATE:20230117
DTSTAMP:20260422T140415
CREATED:20230116T140929Z
LAST-MODIFIED:20230116T140929Z
UID:1287-1673827200-1673913599@gafsc-dc.org
SUMMARY:Martin Luther King\, Jr. Day Offices Closed
DESCRIPTION:
URL:https://gafsc-dc.org/activities/martin-luther-king-jr-day-offices-closed
CATEGORIES:holiday,Office Notices
END:VEVENT
BEGIN:VEVENT
DTSTART;VALUE=DATE:20221226
DTEND;VALUE=DATE:20230103
DTSTAMP:20260422T140415
CREATED:20221209T200445Z
LAST-MODIFIED:20221209T200445Z
UID:1239-1672012800-1672703999@gafsc-dc.org
SUMMARY:Holiday: GAFSC Offices Closed
DESCRIPTION:
URL:https://gafsc-dc.org/activities/holiday-gafsc-offices-closed
CATEGORIES:holiday,Office Notices
END:VEVENT
BEGIN:VEVENT
DTSTART;VALUE=DATE:20221124
DTEND;VALUE=DATE:20221126
DTSTAMP:20260422T140415
CREATED:20221120T211529Z
LAST-MODIFIED:20221120T211529Z
UID:1203-1669248000-1669420799@gafsc-dc.org
SUMMARY:GAFSC Office's Closed for Thanksgiving Holiday
DESCRIPTION:
URL:https://gafsc-dc.org/activities/gafsc-offices-closed-for-thanksgiving-holiday
CATEGORIES:Office Notices
END:VEVENT
END:VCALENDAR