BEGIN:VCALENDAR
VERSION:2.0
PRODID:-//Georgia Avenue Family Support Collaborative - ECPv6.14.2//NONSGML v1.0//EN
CALSCALE:GREGORIAN
METHOD:PUBLISH
X-WR-CALNAME:Georgia Avenue Family Support Collaborative
X-ORIGINAL-URL:https://gafsc-dc.org
X-WR-CALDESC:Events for Georgia Avenue Family Support Collaborative
REFRESH-INTERVAL;VALUE=DURATION:PT1H
X-Robots-Tag:noindex
X-PUBLISHED-TTL:PT1H
BEGIN:VTIMEZONE
TZID:America/New_York
BEGIN:DAYLIGHT
TZOFFSETFROM:-0500
TZOFFSETTO:-0400
TZNAME:EDT
DTSTART:20230312T070000
END:DAYLIGHT
BEGIN:STANDARD
TZOFFSETFROM:-0400
TZOFFSETTO:-0500
TZNAME:EST
DTSTART:20231105T060000
END:STANDARD
BEGIN:DAYLIGHT
TZOFFSETFROM:-0500
TZOFFSETTO:-0400
TZNAME:EDT
DTSTART:20240310T070000
END:DAYLIGHT
BEGIN:STANDARD
TZOFFSETFROM:-0400
TZOFFSETTO:-0500
TZNAME:EST
DTSTART:20241103T060000
END:STANDARD
BEGIN:DAYLIGHT
TZOFFSETFROM:-0500
TZOFFSETTO:-0400
TZNAME:EDT
DTSTART:20250309T070000
END:DAYLIGHT
BEGIN:STANDARD
TZOFFSETFROM:-0400
TZOFFSETTO:-0500
TZNAME:EST
DTSTART:20251102T060000
END:STANDARD
BEGIN:DAYLIGHT
TZOFFSETFROM:-0500
TZOFFSETTO:-0400
TZNAME:EDT
DTSTART:20260308T070000
END:DAYLIGHT
BEGIN:STANDARD
TZOFFSETFROM:-0400
TZOFFSETTO:-0500
TZNAME:EST
DTSTART:20261101T060000
END:STANDARD
END:VTIMEZONE
BEGIN:VEVENT
DTSTART;TZID=America/New_York:20260410T120000
DTEND;TZID=America/New_York:20260410T130000
DTSTAMP:20260422T201217
CREATED:20260403T150525Z
LAST-MODIFIED:20260403T150525Z
UID:2722-1775822400-1775826000@gafsc-dc.org
SUMMARY:Parent Support Group
DESCRIPTION:Parent Support Group- Grupo de Apoyo para Padres\nFriday\, April 10 · 12:00 – 1:00pm\nTime zone: America/New_York\nGoogle Meet joining info\nVideo call link: https://meet.google.com/aye-wuob-bqa\nOr dial: ‪(US) +1 601-861-4469‬ PIN: ‪764 568 713‬#\nMore phone numbers: https://tel.meet/aye-wuob-bqa?pin=7923165763632
URL:https://gafsc-dc.org/activities/parent-support-group-3
CATEGORIES:Parent Education,Parent Support,Webinar
END:VEVENT
BEGIN:VEVENT
DTSTART;TZID=America/New_York:20260327T100000
DTEND;TZID=America/New_York:20260327T120000
DTSTAMP:20260422T201217
CREATED:20260306T184654Z
LAST-MODIFIED:20260306T184654Z
UID:2718-1774605600-1774612800@gafsc-dc.org
SUMMARY:GAFSC Parent Cafe
DESCRIPTION:
URL:https://gafsc-dc.org/activities/gafsc-parent-cafe-12
LOCATION:Emory Fellowship Church\, 6100 Georgia Ave NW\, Washington\, DC\, 20011\, United States
CATEGORIES:Community Events,DC Community Events,Parent Cafe,Parent Education,Parent Support
END:VEVENT
BEGIN:VEVENT
DTSTART;TZID=America/New_York:20260313T120000
DTEND;TZID=America/New_York:20260313T130000
DTSTAMP:20260422T201217
CREATED:20260306T184911Z
LAST-MODIFIED:20260306T184911Z
UID:2720-1773403200-1773406800@gafsc-dc.org
SUMMARY:Virtual Parent Support Group
DESCRIPTION:
URL:https://gafsc-dc.org/activities/virtual-parent-support-group
CATEGORIES:Parent Education,Parent Support
END:VEVENT
BEGIN:VEVENT
DTSTART;TZID=America/New_York:20260122T183000
DTEND;TZID=America/New_York:20260122T203000
DTSTAMP:20260422T201217
CREATED:20260115T172111Z
LAST-MODIFIED:20260115T172111Z
UID:2709-1769106600-1769113800@gafsc-dc.org
SUMMARY:Community Safety Night @ Emory Beacon of Light
DESCRIPTION:Hello Community\, \nJoin us for a Human Trafficking Prevention Month Presentation on Thursday\, January 22\, 2026 at 6:30 PM at Emory Beacon of Light (6100 Georgia Ave NW\, Washington\, DC 20011). \nYou will learn warning signs\, prevention strategies\, and how to respond/report safely. \nFeaturing: \n  \n\nCaroline Burrell\, Assistant U.S. Attorney\, Child Exploitation & Human Trafficking Section\n\nDr. Isabelle Vladoiu\, Founder\, US Institute of Diplomacy and Human Rights \n\n\nLight refreshments provided. \n 
URL:https://gafsc-dc.org/activities/community-safety-night-emory-beacon-of-light
LOCATION:Emory Fellowship Church\, 6100 Georgia Ave NW\, Washington\, DC\, 20011\, United States
CATEGORIES:Awareness,Community Events,DC Community Events,DC Department of Housing and Community Development (DHCD),Events,Health Events,Parent Education
END:VEVENT
BEGIN:VEVENT
DTSTART;TZID=America/New_York:20251217T110000
DTEND;TZID=America/New_York:20251217T130000
DTSTAMP:20260422T201217
CREATED:20251210T192209Z
LAST-MODIFIED:20251210T192209Z
UID:2701-1765969200-1765976400@gafsc-dc.org
SUMMARY:Wellness Wednesday Friendship School
DESCRIPTION:Join Us for a Wonderful Info Session \n\nOpen Enrollment\nLottery Applications\nAvailable Slots\nHolistic Wellness
URL:https://gafsc-dc.org/activities/wellness-wednesday-friendship-school
LOCATION:Brightwood Family Success Center\, 6203 12th Avenue\, Washington\, DC\, United States
CATEGORIES:Parent Education,Parent Support,Wellness Wednesday
END:VEVENT
BEGIN:VEVENT
DTSTART;TZID=America/New_York:20251028T080000
DTEND;TZID=America/New_York:20251028T170000
DTSTAMP:20260422T201217
CREATED:20251028T144020Z
LAST-MODIFIED:20251028T144020Z
UID:2696-1761638400-1761670800@gafsc-dc.org
SUMMARY:Domestic Violence Awareness Meeting
DESCRIPTION:Join us on November 6th at 6:00pm\, for a CJAN MEETING as we discuss Domestic Violence Awareness \nWe will have a great speaker panel providing information that you won’t want to miss. Mark your calendars today! \n\nAll ARE INVITED TO THIS Virtual MEETING (via Zoom) \n  \nVirtually via ZOOM \nhttps://www.zoomgov.com/j/1608513510?pwd=3V0jV5gSEGuz7uPkpS9ybrkA11cC2g.1
URL:https://gafsc-dc.org/activities/domestic-violence-awareness-meeting
CATEGORIES:Awareness,Events,Parent Education,Parent Support,Wellness Wednesday
END:VEVENT
BEGIN:VEVENT
DTSTART;TZID=America/New_York:20251024T100000
DTEND;TZID=America/New_York:20251024T120000
DTSTAMP:20260422T201217
CREATED:20251016T184450Z
LAST-MODIFIED:20251016T184450Z
UID:2686-1761300000-1761307200@gafsc-dc.org
SUMMARY:GAFSC Parent Cafe
DESCRIPTION:Please join GAFSC for an IN-PERSON Parent Café on Friday\, 10/24/2025 at 10 a.m.\n\n·What: A Parent Café: Theme: “Harvest Time” \n·When: Friday\, October 24th\, 2025\, from 10 a.m. – 12 p.m. \n·Where: In Person  (The address will be sent to you once you register) \n·What else:  Lunch (Lunch will be served at noon)\, and Gift card (You will only receive a gift card if you arrive on time between 9:45 am -10 am and stay for the entire Parent Cafe) \n \nHow to register: Register with Katheryn Ramos at kramos@gafsc-dc.org or (202)631-5548 (Please leave a voicemail). Registration cut-off is Wednesday\, 10/22/2025\, or once we reach 25 individuals registered. \n \n \n\nEspanol: \n\n \nÚnase a GAFSC para un café para padres EN PERSONA el Viernes 24/10/2025 a las 10 a. m. \n·Qué: Café para padres: Tema: “Tiempo de Cosecha“\n\n·Cuándo: Viernes\, 24 de Octubre de 2025 de 10 a. m. a 12 p. m. \n·Dónde: En persona (se le enviará la dirección una vez que se registre) \n·Qué más: Almuerzo (El almuerzo se servirá al mediodía) y Tarjeta de regalo (Solo recibirás una tarjeta de regalo si llegas a tiempo entre las 9:45 y las 10 a. m. y te quedas durante todo el Café de Padres)\n\nCómo registrarse: Regístrese con Katheryn Ramos en kramos@gafsc-dc.org o (202)631-5548 (Por favor\, deje un mensaje de voz). La fecha límite de inscripción es el Miercoles\, 22/10/2025\, o una vez alcancemos las 25 personas inscritas.
URL:https://gafsc-dc.org/activities/gafsc-parent-cafe-11
CATEGORIES:Community Events,DC Community Events,GAFSC Staff Event,Parent Cafe,Parent Education,Parent Support
ORGANIZER;CN="Georgia Avenue Family Support Collaborative (GAFSC)":MAILTO:kramos@gafsc-dc.org
END:VEVENT
BEGIN:VEVENT
DTSTART;TZID=America/New_York:20250926T100000
DTEND;TZID=America/New_York:20250926T120000
DTSTAMP:20260422T201217
CREATED:20250916T135342Z
LAST-MODIFIED:20250916T135342Z
UID:2655-1758880800-1758888000@gafsc-dc.org
SUMMARY:Parent Cafe
DESCRIPTION:Please join GAFSC for an IN-PERSON Parent Café on Friday\, 09/26/2025 at 10 a.m.\n\n·What: A Parent Café: Theme: “Fall into Fall” \n·When: Friday\, September 26th\, 2025\, from 10 a.m. – 12 p.m. \n·Where: In Person  (The address will be sent to you once you register) \n·What else:  Lunch (Lunch will be served at noon)\, and Gift card (You will only receive a gift card if you arrive on time between 9:45 am -10 am and stay for the entire Parent Cafe) \n \nHow to register: Register with Katheryn Ramos at kramos@gafsc-dc.org or (202)631-5548 (Please leave a voicemail). Registration cut-off is Wednesday\, 09/24/2025\, or once we reach 25 individuals registered. \n \n \n\nEspanol: \n\n \nÚnase a GAFSC para un café para padres EN PERSONA el Viernes 26/09/2025 a las 10 a. m. \n·Qué: Café para padres: Tema: “Caer en Otoño”\n\n·Cuándo: Viernes\, 26 de Septiembre de 2025 de 10 a. m. a 12 p. m. \n·Dónde: En persona (se le enviará la dirección una vez que se registre) \n·Qué más: Almuerzo (El almuerzo se servirá al mediodía) y Tarjeta de regalo (Solo recibirás una tarjeta de regalo si llegas a tiempo entre las 9:45 y las 10 a. m. y te quedas durante todo el Café de Padres)\n\nCómo registrarse: Regístrese con Katheryn Ramos en kramos@gafsc-dc.org o (202)631-5548 (Por favor deje un mensaje de voz). La fecha límite de inscripción es el Miercoles\, 24/09/2025\, o una vez alcancemos las 25 personas inscritas.
URL:https://gafsc-dc.org/activities/parent-cafe-3
CATEGORIES:Community Events,DC Community Events,Events,Parent Cafe,Parent Education,Parent Support
ORGANIZER;CN="Georgia Avenue Family Support Collaborative (GAFSC)":MAILTO:kramos@gafsc-dc.org
END:VEVENT
BEGIN:VEVENT
DTSTART;TZID=America/New_York:20250725T100000
DTEND;TZID=America/New_York:20250725T120000
DTSTAMP:20260422T201217
CREATED:20250722T143623Z
LAST-MODIFIED:20250722T143623Z
UID:2617-1753437600-1753444800@gafsc-dc.org
SUMMARY:Parent Cafe
DESCRIPTION:Please join GAFSC for an IN-PERSON Parent Café Friday\, 07/25/2025 at 10 a.m.\n\n·What: A Parent Café: Theme: “Fun in the Sun” \n·When: Friday\, July 25th\, 2025  from 10 a.m. – 12 p.m. \n·Where: In Person  (The address will be sent to you once you register) \n·What else:  Lunch (Lunch will be served at noon)\, and Gift card (You will only receive a gift card if you arrive on time between 9:45 am -10 am and stay for the entire Parent Cafe)\, CHILDCARE WILL BE PROVIDED (you must register by Monday\, July 21st\, if child care is needed) \n\nHow to register: Register with Katheryn Ramos at kramos@gafsc-dc.org or (202)631-5548 (Please leave a voicemail). Registration cut-off is Wednesday\, 07/23/2025\, or once we reach 25 individuals registered. \n \nPlease arrive at the Parent Café between 9:45 a.m. and 10 a.m. on Friday\, 07/25/2025.\n \n \n\nEspanol: \n\n \nÚnase a GAFSC para un Café para padres EN PERSONA el Viernes 25/07/2025 a las 10 a. m. \n·Qué: Café para padres: Tema: “Diversión Bajo el Sol”\n\n·Cuándo: Viernes\, 25 de Julio de 2025 de 10 a. m. a 12 p. m. \n·Dónde: En persona (se le enviará la dirección una vez que se registre) \n·Qué más: Almuerzo (El almuerzo se servirá al mediodía) y Tarjeta de regalo (Solo recibirás una tarjeta de regalo si llegas a tiempo entre las 9:45 y las 10 a. m. y te quedas durante todo el Café de Padres)\, SE PROPORCIONARÁ CUIDADO DE NIÑOS (debe registrarse antes del Lunes 21 de Julio\, si necesita cuidado de niños)\n\nCómo registrarse: Regístrese con Katheryn Ramos en kramos@gafsc-dc.org o (202)631-5548 (Porfavor deje un mensaje de voz). La fecha límite de inscripción es el Miercoles\, 23/07/2025\, o una vez alcancemos las 25 personas inscritas. \nLlegue al Café para Padres entre las 9:45 a. m. y las 10 a. m. del Viernes 25/07/2025.
URL:https://gafsc-dc.org/activities/parent-cafe-2
CATEGORIES:Awareness,Community Events,DC Community Events,Events,Parent Cafe,Parent Education,Parent Support
ORGANIZER;CN="Georgia Avenue Family Support Collaborative (GAFSC)":MAILTO:kramos@gafsc-dc.org
END:VEVENT
BEGIN:VEVENT
DTSTART;TZID=America/New_York:20250719T100000
DTEND;TZID=America/New_York:20250719T160000
DTSTAMP:20260422T201217
CREATED:20250703T161511Z
LAST-MODIFIED:20250703T161511Z
UID:2571-1752919200-1752940800@gafsc-dc.org
SUMMARY:The 2025 Healing Communities Symposium: An Integrated Approach to Violence Interruption
DESCRIPTION:The Office of Neighborhood Safety and Engagement (ONSE) invites you to the 2nd Annual Healing Communities Symposium — a one-day summit uniting residents\, government leaders\, community-based organizations\, and private sector partners to reimagine safety across the District. \nThis year’s theme\, “An Integrated Approach to Violence Intervention\,” calls on all of us to step up to stand down violence. Through rich dialogue\, community activations\, and mindful engagement\, we’ll explore the intersections of healing\, justice\, and systems change. \nWhether you’re a policymaker\, business leader\, returning citizen\, activist\, or neighbor\, your voice and vision are vital. Together\, we can build a District where peace is possible. \nWhat to Expect\n\nKeynote speakers from the District and across the country\nBreakout sessions on policy\, community-based solutions\, and more\nLive podcast recording with community voices\nYoga + meditation and wellness stations\nResource tables\, networking\, and community art\nFree lunch + giveaways\nAnd so much more…\n\nSymposium Goals\n\nEngage the public and private sectors to innovate strategies for large-scale violence interruption and reduction.\nEmpower participants with tools to actively address violence as a public health emergency.\nEnergize the District to shift narratives around violence\, interruption\, and intervention.
URL:https://gafsc-dc.org/activities/the-2025-healing-communities-symposium-an-integrated-approach-to-violence-interruption
LOCATION:Kellogg  Conference Center\, 800 Florida Ave NE\, Washington\, DC\, 20002
CATEGORIES:Awareness,Community Events,DC Community Events,Events,Health Events,Parent Education
END:VEVENT
BEGIN:VEVENT
DTSTART;TZID=America/New_York:20250718T120000
DTEND;TZID=America/New_York:20250718T130000
DTSTAMP:20260422T201217
CREATED:20250715T131955Z
LAST-MODIFIED:20250715T131955Z
UID:2593-1752840000-1752843600@gafsc-dc.org
SUMMARY:Parent Support Group
DESCRIPTION:The FS Online Bilingual (English/Spanish) Parent Support Group is on FRIDAY\, July 18th\, 2025\, from 12:00 pm to 1:00 pm.\n\n\n\n\n\n\n\n\n\n\n\n\n\n\n\n\n\n\n\n\n\n\n\n\n\n\n\n\n\n\nMeeting link\n\n\n\n\nmeet.google.com/vwc-feqf-fnm\n\n\n\n\n\n\n\n\n\n\nJoin by phone\n\n\n\n\n(US) +1 520-815-1511\nPIN: 643170521\n\n\n\n\n\n\n \nJoin us for safe conversations (in English & Español)– and a chance to win a $25 Online Walmart Gift Card!\n\n\n\n \n\n\n \n\nEl grupo de apoyo para padres bilingüe (inglés/español) en línea de FS es el VIERNES: VIERNES 18 de Julio de 2025 de 12 pm – 1:00pm.\n\n \n\n\n\n\n\n\n\n\n\n\nMeeting link\n\n\n\n\nmeet.google.com/vwc-feqf-fnm\n\n\n\n\n\n\n\n\n\n\nJoin by phone\n\n\n\n\n(US) +1 520-815-1511\nPIN: 643170521\n\n\n\n\n\n\nÚnase a nosotros para tener conversaciones seguras (en Inglés y Español) y para tener la oportunidad de ganar una tarjeta de regalo de Walmart.
URL:https://gafsc-dc.org/activities/parent-support-group-2
CATEGORIES:Awareness,Community Events,DC Community Events,Events,Parent Education,Parent Support,Webinar
ORGANIZER;CN="Georgia Avenue Family Support Collaborative (GAFSC)":MAILTO:kramos@gafsc-dc.org
END:VEVENT
BEGIN:VEVENT
DTSTART;TZID=America/New_York:20250621T100000
DTEND;TZID=America/New_York:20250621T140000
DTSTAMP:20260422T201217
CREATED:20250618T181054Z
LAST-MODIFIED:20250618T181054Z
UID:2555-1750500000-1750514400@gafsc-dc.org
SUMMARY:Homeownership Month Workshop
DESCRIPTION:Join DHCD’s 2025 National Homeownership Month event to understand the importance of homeownership as a key to building wealth and learn about valuable homeownership resources for District residents! \n\nDHCD’s 2025 National Homeownership Month \nDate: Saturday\, June 21\, 2025 \nTime: 10:00 am – 2:00 pm \nLocation: DC Department of Housing and Community Development (DHCD) \n1909 Martin Luther King Jr. Avenue SE\, Washington\, DC \nJune is National Homeownership Month\, a time to encourage and promote homeownership\, remind everyone of the importance of homeownership as one of the primary ways that District residents build wealth\, and highlight how homeownership strengthens communities. \nThe DC Department of Housing and Community Development (DHCD) is planning a series of workshops to engage our community on topics relevant to homeownership and financial literacy. DHCD encourages you to attend the National Homeownership Month event. \n\nWorkshops: DHCD has the following workshops – the Homeownership Journey\, Heirs Property\, Inclusionary Zoning\, Single-Family Residential Rehabilitation Program (SFRRP)\, Taxes\, and Tenant Opportunity to Purchase Assistance (TOPA). You can find our more information and register below: \n\nHomeownership Journey\nHeirs Property Assistance Program\nInclusionary Zoning (IZ)\nSingle-Family Residential Rehabilitation Program (SFRRP)\nDemystifying Taxes\nTenant Opportunity to Purchase Assistance (TOPA)\n\n\nPARKING AND TRANSPORTATION OPTIONS: Street parking will be limited\, and we encourage you to utilize various modes of transportation\, such as the Metro or ride-sharing services. Here are a few options for public transportation: \n\nClosest Metro: Anacostia Metro Station\nClosest Bus Routes: 90\, 92\, A6\, A8\, A33\, B2\, C11\, C15\, C23\, C31\, C41\, C51\, C53\, P6\, V2\nClosest Bikeshare Station: Marion Barry Avenue SE and Martin Luther King Jr. Avenue SE
URL:https://gafsc-dc.org/activities/homeownership-month-workshop
LOCATION:DC Department of Housing and Community Development (DHCD)\, 1909 Martin Luther King Jr. Avenue SE\, Washington\, DC\, 20020
CATEGORIES:Community Events,DC Community Events,DC Department of Housing and Community Development (DHCD),DHCD,Events,Parent Education
END:VEVENT
BEGIN:VEVENT
DTSTART;TZID=America/New_York:20250607T110000
DTEND;TZID=America/New_York:20250607T130000
DTSTAMP:20260422T201217
CREATED:20250520T133444Z
LAST-MODIFIED:20250520T133444Z
UID:2467-1749294000-1749301200@gafsc-dc.org
SUMMARY:Early Childhood Education Open House
DESCRIPTION:We’ll be hosting an Open House for families seeking high-quality early childhood education for children ages 6 weeks to 4 years old in the upcoming school year\, which starts in August. Families will have the opportunity to tour our center\, meet some of our educators\, learn about the many resources Martha’s Table offers\, and engage in fun\, family-friendly activities. \nPlease note that our program is currently open to: \n\n·  Families residing in Ward 8\n·  Families experiencing homelessness\n·  Foster families\n\n  \nJoel Lopez at\n(202) 516-4220 or \neducationprograms@marthastable.org _ECE_June 7_Open House (2)
URL:https://gafsc-dc.org/activities/early-childhood-education-open-house
LOCATION:The Commons at Martha’s Table\, 2375 Elvans Road SE\, Washington\, DC\, 20002
CATEGORIES:Awareness,Black Friday,Community Events,DC Community Events,Parent Education,Parent Support
END:VEVENT
BEGIN:VEVENT
DTSTART;TZID=America/New_York:20250606T120000
DTEND;TZID=America/New_York:20250606T130000
DTSTAMP:20260422T201217
CREATED:20250604T140317Z
LAST-MODIFIED:20250604T140317Z
UID:2490-1749211200-1749214800@gafsc-dc.org
SUMMARY:Parent Support Group
DESCRIPTION:The FS Online Bilingual (English/Spanish) Parent Support Group is on FRIDAY\, June 6th\, 2025\, from 12:00 pm to 1:00 pm.\n\n\n\n\n\n\n\n\n\n\n\n\n\n\n\n\n\n\n\n\n\nGoogle Meet joining info:\nVideo call link: \nhttps://meet.google.com/vpx-sxht-ewy \nOr dial: ‪(US) +1 443-461-4974‬ PIN: ‪952 564 071‬#\nMore phone numbers: https://tel.meet/vpx-sxht-ewy?pin=5042701051404 \nJoin us for safe conversations (in English & Español)– and a chance to win a $25 Online Walmart Gift Card!\n\n\nEl grupo de apoyo para padres bilingüe (inglés/español) en línea de FS es el VIERNES: VIERNES 6 de junio de 2025 de 12 pm – 1:00pm.\n\n \nGoogle Meet joining info:\nhttps://meet.google.com/vpx-sxht-ewy \nOr dial: ‪(US) +1 443-461-4974‬ PIN: ‪952 564 071‬#\nMore phone numbers: https://tel.meet/vpx-sxht-ewy?pin=5042701051404 \n\nÚnase a nosotros para tener conversaciones seguras (en Inglés y Español) y para tener la oportunidad de ganar una tarjeta de regalo de Walmart.
URL:https://gafsc-dc.org/activities/parent-support-group
CATEGORIES:Community Events,DC Community Events,Parent Education,Parent Support,Webinar
ORGANIZER;CN="Georgia Avenue Family Support Collaborative (GAFSC)":MAILTO:kramos@gafsc-dc.org
END:VEVENT
BEGIN:VEVENT
DTSTART;TZID=America/New_York:20250523T100000
DTEND;TZID=America/New_York:20250523T120000
DTSTAMP:20260422T201217
CREATED:20250520T131732Z
LAST-MODIFIED:20250520T131732Z
UID:2465-1747994400-1748001600@gafsc-dc.org
SUMMARY:GAFS  Parent Cafe -Health and Wellness
DESCRIPTION:Please join GAFSC for an IN-PERSON Parent Café Friday 05/23/2025 at 10 a.m. \n·What: A Parent Café: Theme: “Health and Wellness” \n·When: Friday\, May 23rd\, 2025 from 10 a.m. – 12 p.m. \n·Where: In Person (The address will be sent to you once you register) \n·What else: Lunch (Lunch will be served at noon)\, and Gift card (You will only receive a gift card if you arrive on time between 9:45 am -10 am and stay for the entire Parent Cafe)\, NO CHILDCARE WILL BE PROVIDED. \nHow to register: Register with Katheryn Ramos at kramos@gafsc-dc.org or (202)631-5548 (Please leave a voicemail). Registration cut-off is THURSDAY\, 05/22/2025\, or once we reach 25 individuals registered. \nPlease arrive at the Parent Café between 9:45 a.m. and 10 a.m. on Friday 05/23/2025.
URL:https://gafsc-dc.org/activities/gafs-parent-cafe-health-and-wellness
CATEGORIES:Awareness,Community Events,DC Community Events,Events,Health Events,Parent Cafe,Parent Education,Parent Support
ORGANIZER;CN="Georgia Avenue Family Support Collaborative (GAFSC)":MAILTO:kramos@gafsc-dc.org
END:VEVENT
BEGIN:VEVENT
DTSTART;TZID=America/New_York:20250509T120000
DTEND;TZID=America/New_York:20250509T130000
DTSTAMP:20260422T201217
CREATED:20250507T184212Z
LAST-MODIFIED:20250507T184212Z
UID:2404-1746792000-1746795600@gafsc-dc.org
SUMMARY:GAFSC Parent Support Group
DESCRIPTION:The FS Online Bilingual (English/Spanish) Parent Support Group is FRIDAY: FRIDAY\, May 9th\, 2025 from 12 pm- 1:00 pm. \n\n\n\n\n\n\n\n\n\n\n\n\n\n\n\n\n\n\n\n\n\n\nGoogle Meet joining info:\nVideo call link: https://meet.google.com/btf-kjiy-nsi\n\nOr dial: ‪(US) +1 570-719-2026‬ PIN: ‪508 194 353‬#\nMore phone numbers: https://tel.meet/btf-kjiy-nsi?pin=5843873255185\n\n\n \nJoin us for safe conversations (in English & Español)– and a chance to win a $25 Online Walmart Gift Card\n\n\n\nEl grupo de apoyo para padres bilingüe (inglés/español) en línea de FS es el VIERNES: VIERNES 9 de Mayo de 2024 de 12 pm – 1:00pm.\n\n \nGoogle Meet joining info:\nVideo call link: https://meet.google.com/btf-kjiy-nsi\n\nOr dial: ‪(US) +1 570-719-2026‬ PIN: ‪508 194 353‬#\nMore phone numbers: https://tel.meet/btf-kjiy-nsi?pin=5843873255185
URL:https://gafsc-dc.org/activities/gafsc-parent-support-group-6
CATEGORIES:Parent Education,Parent Support,Webinar
ORGANIZER;CN="Georgia Avenue Family Support Collaborative (GAFSC)":MAILTO:kramos@gafsc-dc.org
END:VEVENT
BEGIN:VEVENT
DTSTART;TZID=America/New_York:20250427T100000
DTEND;TZID=America/New_York:20250427T143000
DTSTAMP:20260422T201217
CREATED:20250402T145751Z
LAST-MODIFIED:20250402T145751Z
UID:2329-1745748000-1745764200@gafsc-dc.org
SUMMARY:SLS Parent Retreat
DESCRIPTION:Sustained Learning Solutions\, (SLS)\, is hosting a One-Day Wellness Retreat\, on Sunday April 27\, 2025\, from 10am to 2;30pm\, for parents in Wards 7 & 8 connected to the Time to Intentionally Parent (TIP). The program shares thoughts and engage experiences related to parenting actions and personal wellbeing that will support and motivate their children to make positive decisions and lifestyle choices during their growth development. \nPlease click the registration link for more information: https://docs.google.com/forms/d/e/1FAIpQLSeVzVOyKP713q1Z5JQMUhifnzEfcwPzMBAcXP_QAsi31uYKFA/viewform
URL:https://gafsc-dc.org/activities/sls-parent-retreat
CATEGORIES:Awareness,Community Events,Health Events,Parent Education,Parent Support
ORGANIZER;CN="Sustained Learning Solutions":MAILTO:shariashanklin@sustainedlearningsolutions.com
END:VEVENT
BEGIN:VEVENT
DTSTART;TZID=America/New_York:20250425T100000
DTEND;TZID=America/New_York:20250425T120000
DTSTAMP:20260422T201217
CREATED:20250417T155900Z
LAST-MODIFIED:20250417T155900Z
UID:2360-1745575200-1745582400@gafsc-dc.org
SUMMARY:April's Parent Cafe
DESCRIPTION:Please join GAFSC for an IN-PERSON Parent Café Friday 04/25/2025 at 10 a.m.\n\n·What: A Parent Café: Theme: “Lean On Me”·When: Friday\, April 25th\, 2025  from 10 a.m. – 12 p.m. \n·Where: In Person  (The address will be sent to you once you register) \n·What else:  Lunch (Lunch will be served at noon)\, and Gift card (You will only receive a gift card if you arrive on time between 9:45 am -10 am and stay for the entire Parent Cafe)\, NO CHILDCARE WILL BE PROVIDED. \n\n\nHow to register: Register with Katheryn Ramos at kramos@gafsc-dc.org or (202)631-5548 (Please leave a voicemail). Registration cut-off is WEDNESDAY\, 04/23/2025\, or once we reach 25 individuals registered. \n \nPlease arrive at the Parent Café between 9:45 a.m. and 10 a.m. on Friday 04/25/2025.\n \n \n\nEspanol: \n\n \n\nÚnase a GAFSC para un Café para padres EN PERSONA el Viernes 25/04/2025 a las 10 a. m. \n·Qué: Café para padres: Tema: “Apoyate en Mi” \n·Cuándo: Viernes\, 25 de Abril de 2025 de 10 a. m. a 12 p. m. \n·Dónde: En persona (se le enviará la dirección una vez que se registre) \n·Qué más: Almuerzo (El almuerzo se servirá al mediodía) y Tarjeta de regalo (Solo recibirás una tarjeta de regalo si llegas a tiempo entre las 9:45 y las 10 a. m. y te quedas durante todo el Parent Café)\, NO SE PROPORCIONARÁ CUIDADO DE NIÑOS. \nCómo registrarse: Regístrese con Katheryn Ramos en kramos@gafsc-dc.org o (202)631-5548 (Porfavor deje un mensaje de voz). La fecha límite de inscripción es el MIERCOLES\, 23/04/2025\, o una vez alcancemos las 25 personas inscritas. \nLlegue al Café para Padres entre las 9:45 a. m. y las 10 a. m. del Viernes 25/04/2024. 
URL:https://gafsc-dc.org/activities/aprils-parent-cafe
CATEGORIES:Awareness,Community Events,DC Community Events,Donate,Parent Cafe,Parent Education,Parent Support
ORGANIZER;CN="Georgia Avenue Family Support Collaborative (GAFSC)":MAILTO:kramos@gafsc-dc.org
END:VEVENT
BEGIN:VEVENT
DTSTART;TZID=America/New_York:20250423T100000
DTEND;TZID=America/New_York:20250423T120000
DTSTAMP:20260422T201217
CREATED:20250415T153151Z
LAST-MODIFIED:20250415T153151Z
UID:2353-1745402400-1745409600@gafsc-dc.org
SUMMARY:2025 Family Strengthening Month Community Resource Fair
DESCRIPTION:Please join the CFSA Office of Thriving Families on Wednesday\, April 23\, 2025\, from 10 a.m. to 12 p.m. at Horton’s Kids (2233 Hunter Place SE\, Washington\, DC) for Family Strengthening Month! \nThis year’s theme\, “Powered by Hope\, Strengthened by Prevention\,” celebrates community support for child and family well-being. Connect with local organizations\, discover family services\, enjoy music and fun\, and access limited on-site resources. All District families and community members are welcome. \nRegistero
URL:https://gafsc-dc.org/activities/2025-family-strengthening-month-community-resource-fair
LOCATION:Horton’s Kids\, 2233 Hunter Place SE\, Washington\, DC
CATEGORIES:Community Events,DC Community Events,Events,Parent Education,Parent Support
END:VEVENT
BEGIN:VEVENT
DTSTART;TZID=America/New_York:20230714T120000
DTEND;TZID=America/New_York:20230714T133000
DTSTAMP:20260422T201217
CREATED:20231006T185237Z
LAST-MODIFIED:20231006T185310Z
UID:1915-1689336000-1689341400@gafsc-dc.org
SUMMARY:GAFSC July Parent Support Group
DESCRIPTION:
URL:https://gafsc-dc.org/activities/gafsc-july-parent-support-group
CATEGORIES:Parent Education
END:VEVENT
BEGIN:VEVENT
DTSTART;VALUE=DATE:20230630
DTEND;VALUE=DATE:20230701
DTSTAMP:20260422T201217
CREATED:20230531T211309Z
LAST-MODIFIED:20230531T211309Z
UID:1728-1688083200-1688169599@gafsc-dc.org
SUMMARY:Parent Education Series “Our Fathers”
DESCRIPTION:
URL:https://gafsc-dc.org/activities/parent-education-series-our-fathers
CATEGORIES:Parent Education,Parent Support
END:VEVENT
END:VCALENDAR