BEGIN:VCALENDAR
VERSION:2.0
PRODID:-//Georgia Avenue Family Support Collaborative - ECPv6.14.2//NONSGML v1.0//EN
CALSCALE:GREGORIAN
METHOD:PUBLISH
X-ORIGINAL-URL:https://gafsc-dc.org
X-WR-CALDESC:Events for Georgia Avenue Family Support Collaborative
REFRESH-INTERVAL;VALUE=DURATION:PT1H
X-Robots-Tag:noindex
X-PUBLISHED-TTL:PT1H
BEGIN:VTIMEZONE
TZID:America/New_York
BEGIN:DAYLIGHT
TZOFFSETFROM:-0500
TZOFFSETTO:-0400
TZNAME:EDT
DTSTART:20250309T070000
END:DAYLIGHT
BEGIN:STANDARD
TZOFFSETFROM:-0400
TZOFFSETTO:-0500
TZNAME:EST
DTSTART:20251102T060000
END:STANDARD
END:VTIMEZONE
BEGIN:VEVENT
DTSTART;TZID=America/New_York:20250620T100000
DTEND;TZID=America/New_York:20250620T120000
DTSTAMP:20260422T223431
CREATED:20250609T190637Z
LAST-MODIFIED:20250609T190637Z
UID:2542-1750413600-1750420800@gafsc-dc.org
SUMMARY:Parent Cafe
DESCRIPTION:ood morning\, all staff\, \n \nPlease share the Parent Cafe information with your families. There will be childcare\, but parents must register before Friday\, June 13th.\n\n \nPlease join GAFSC for an IN-PERSON Parent Café Friday\, 06/20/2025 at 10 a.m.\n\n·What: A Parent Café: Theme: “Summer Time” \n·When: Friday\, June 20th\, 2025  from 10 a.m. – 12 p.m. \n·Where: In Person  (The address will be sent to you once you register) \n·What else:  Lunch (Lunch will be served at noon)\, and Gift card (You will only receive a gift card if you arrive on time between 9:45 am -10 am and stay for the entire Parent Cafe)\, CHILDCARE WILL BE PROVIDED (you must register by June 13th) \n\nHow to register: Register with Katheryn Ramos at kramos@gafsc-dc.org or (202)631-5548 (Please leave a voicemail). Registration cut-off is Friday\, 06/13/2025\, or once we reach 25 individuals registered. \n \nPlease arrive at the Parent Café between 9:45 a.m. and 10 a.m. on Friday 06/20/2025.\n \n \n\nEspanol: \n\n \nÚnase a GAFSC para un Café para padres EN PERSONA el Viernes 20/06/2025 a las 10 a. m. \n·Qué: Café para padres: Tema: “Timepos de Verano” \n·Cuándo: Viernes\, 20 de Junio de 2025 de 10 a. m. a 12 p. m. \n·Dónde: En persona (se le enviará la dirección una vez que se registre) \n·Qué más: Almuerzo (El almuerzo se servirá al mediodía) y Tarjeta de regalo (Solo recibirás una tarjeta de regalo si llegas a tiempo entre las 9:45 y las 10 a. m. y te quedas durante todo el Parent Café)\, SE PROPORCIONARÁ CUIDADO DE NIÑOS (debe registrarse antes del 13 de Junio)\n\nCómo registrarse: Regístrese con Katheryn Ramos en kramos@gafsc-dc.org o (202)631-5548 (Porfavor deje un mensaje de voz). La fecha límite de inscripción es el Viernes\, 13/06/2025\, o una vez alcancemos las 25 personas inscritas. \nLlegue al Café para Padres entre las 9:45 a. m. y las 10 a. m. del Viernes 20/06/2024.
URL:https://gafsc-dc.org/activities/parent-cafe
CATEGORIES:Awareness,Community Events,Parent Cafe,Parent Support,Test Listing
ORGANIZER;CN="Georgia Avenue Family Support Collaborative (GAFSC)":MAILTO:kramos@gafsc-dc.org
END:VEVENT
END:VCALENDAR