BEGIN:VCALENDAR
VERSION:2.0
PRODID:-//Georgia Avenue Family Support Collaborative - ECPv6.14.2//NONSGML v1.0//EN
CALSCALE:GREGORIAN
METHOD:PUBLISH
X-WR-CALNAME:Georgia Avenue Family Support Collaborative
X-ORIGINAL-URL:https://gafsc-dc.org
X-WR-CALDESC:Events for Georgia Avenue Family Support Collaborative
REFRESH-INTERVAL;VALUE=DURATION:PT1H
X-Robots-Tag:noindex
X-PUBLISHED-TTL:PT1H
BEGIN:VTIMEZONE
TZID:America/New_York
BEGIN:DAYLIGHT
TZOFFSETFROM:-0500
TZOFFSETTO:-0400
TZNAME:EDT
DTSTART:20220313T070000
END:DAYLIGHT
BEGIN:STANDARD
TZOFFSETFROM:-0400
TZOFFSETTO:-0500
TZNAME:EST
DTSTART:20221106T060000
END:STANDARD
END:VTIMEZONE
BEGIN:VEVENT
DTSTART;VALUE=DATE:20221106
DTEND;VALUE=DATE:20221114
DTSTAMP:20260423T074605
CREATED:20221103T181759Z
LAST-MODIFIED:20221103T181759Z
UID:1189-1667692800-1668383999@gafsc-dc.org
SUMMARY:5th Annual DMV Black Restaurant Week
DESCRIPTION:Come out and support Black-owned restaurants in the DMV and let’s Reshape our community through ownership and luxury.
URL:https://gafsc-dc.org/activities/5th-annual-dmv-black-restaurant-week
CATEGORIES:Events
ATTACH;FMTTYPE=image/png:https://gafsc-dc.org/wp-content/uploads/2022/11/DMVblkrestaurant-week.png
END:VEVENT
BEGIN:VEVENT
DTSTART;VALUE=DATE:20221111
DTEND;VALUE=DATE:20221112
DTSTAMP:20260423T074605
CREATED:20221108T223609Z
LAST-MODIFIED:20221108T223609Z
UID:1192-1668124800-1668211199@gafsc-dc.org
SUMMARY:Veteran's Day—GAFSC Offices Closed
DESCRIPTION:
URL:https://gafsc-dc.org/activities/veterans-day-gafsc-offices-closed
END:VEVENT
BEGIN:VEVENT
DTSTART;VALUE=DATE:20221124
DTEND;VALUE=DATE:20221126
DTSTAMP:20260423T074605
CREATED:20221120T211529Z
LAST-MODIFIED:20221120T211529Z
UID:1203-1669248000-1669420799@gafsc-dc.org
SUMMARY:GAFSC Office's Closed for Thanksgiving Holiday
DESCRIPTION:
URL:https://gafsc-dc.org/activities/gafsc-offices-closed-for-thanksgiving-holiday
CATEGORIES:Office Notices
END:VEVENT
BEGIN:VEVENT
DTSTART;VALUE=DATE:20221125
DTEND;VALUE=DATE:20221126
DTSTAMP:20260423T074605
CREATED:20221120T212055Z
LAST-MODIFIED:20221121T131210Z
UID:1205-1669334400-1669420799@gafsc-dc.org
SUMMARY:Black Friday Shopping Event!
DESCRIPTION:Support the GAFSC by shopping on Amazon Smile this Black Friday!  Proceeds from hour holiday shopping purchases can be donated to the GAFSC to help children and families. Be sure to use this link: https://smile.amazon.com/ch/52-2349433 \n 
URL:https://gafsc-dc.org/activities/black-friday-shopping-event
CATEGORIES:Black Friday,Donate
END:VEVENT
BEGIN:VEVENT
DTSTART;VALUE=DATE:20221128
DTEND;VALUE=DATE:20221129
DTSTAMP:20260423T074605
CREATED:20221120T212348Z
LAST-MODIFIED:20221121T130910Z
UID:1207-1669593600-1669679999@gafsc-dc.org
SUMMARY:Cyber Monday Shopping Event!
DESCRIPTION:Support the GAFSC by shopping on Amazon Smile this Cyber Monday!  Proceeds from hour holiday shopping purchases can be donated to the GAFSC to help children and families. Be sure to use this link: https://smile.amazon.com/ch/52-2349433
URL:https://gafsc-dc.org/activities/cyber-monday-shopping-event
CATEGORIES:Donate
END:VEVENT
BEGIN:VEVENT
DTSTART;VALUE=DATE:20221129
DTEND;VALUE=DATE:20221130
DTSTAMP:20260423T074605
CREATED:20221120T212731Z
LAST-MODIFIED:20221120T212731Z
UID:1209-1669680000-1669766399@gafsc-dc.org
SUMMARY:Giving Tuesday: Help us support the community!
DESCRIPTION:The demand for GAFSC services continues to grow. GAFSC has helped give children and families in Ward 4 and throughout the District a wide array of programs and services since 1998. Ultimately\, our aim is to give more individuals\, children\, youth\, and families the opportunity to realize a better life and their dream of a life fulfilled. Help us help our neighbors!
URL:https://gafsc-dc.org/activities/giving-tuesday-help-us-support-the-community
CATEGORIES:Donate
END:VEVENT
END:VCALENDAR