BEGIN:VCALENDAR
VERSION:2.0
PRODID:-//Georgia Avenue Family Support Collaborative - ECPv6.14.2//NONSGML v1.0//EN
CALSCALE:GREGORIAN
METHOD:PUBLISH
X-WR-CALNAME:Georgia Avenue Family Support Collaborative
X-ORIGINAL-URL:https://gafsc-dc.org
X-WR-CALDESC:Events for Georgia Avenue Family Support Collaborative
REFRESH-INTERVAL;VALUE=DURATION:PT1H
X-Robots-Tag:noindex
X-PUBLISHED-TTL:PT1H
BEGIN:VTIMEZONE
TZID:America/New_York
BEGIN:DAYLIGHT
TZOFFSETFROM:-0500
TZOFFSETTO:-0400
TZNAME:EDT
DTSTART:20230312T070000
END:DAYLIGHT
BEGIN:STANDARD
TZOFFSETFROM:-0400
TZOFFSETTO:-0500
TZNAME:EST
DTSTART:20231105T060000
END:STANDARD
END:VTIMEZONE
BEGIN:VEVENT
DTSTART;TZID=America/New_York:20230310T120000
DTEND;TZID=America/New_York:20230310T133000
DTSTAMP:20260423T160002
CREATED:20230116T141906Z
LAST-MODIFIED:20230116T141906Z
UID:1295-1678449600-1678455000@gafsc-dc.org
SUMMARY:GAFSC Parent Support Group
DESCRIPTION:Join\, share\, relax and get support from other Collaborative parents.  \nChance to win a Raffle for a $25 Amazon or Wal-Mart gift card \nContact:  Katheryn Ramos at: 202-722-1815 ext. 100 if you plan to attend.
URL:https://gafsc-dc.org/activities/gafsc-parent-support-group-11
CATEGORIES:Parent Support
ORGANIZER;CN="Katherine Ramos":MAILTO:kramos@gafsc-dc.org
END:VEVENT
BEGIN:VEVENT
DTSTART;TZID=America/New_York:20230324T100000
DTEND;TZID=America/New_York:20230324T120000
DTSTAMP:20260423T160002
CREATED:20230116T142434Z
LAST-MODIFIED:20230125T193132Z
UID:1301-1679652000-1679659200@gafsc-dc.org
SUMMARY:GAFSC Parent Cafe
DESCRIPTION:REGISTRATION REQUIRED IN ADVANCE TO ATTEND THE EVENT \nLunch will be served at noon after the In-person Café \n *Anyone who arrives on time (between 9:45 – 10 a.m.) to the Cafe (Zoom or In-Person) will have a chance to win the Raffle for a $25 Amazon or Wal-Mart gift card \n Please RSVP to Katheryn Ramos\n202-722-1815 ext. 100 or kramos@gafsc-dc.org\nCafes will be held online via Zoom AND In-Person*
URL:https://gafsc-dc.org/activities/gafsc-parent-cafe-9
CATEGORIES:Parent Cafe
ORGANIZER;CN="Katherine Ramos":MAILTO:kramos@gafsc-dc.org
END:VEVENT
END:VCALENDAR